BEGIN:VCALENDAR
VERSION:2.0
PRODID:-//Roselle Public Library District//NONSGML v1.0//EN
METHOD:PUBLISH
BEGIN:VEVENT
DTSTART;TZID=America/Chicago:20260430T190000
DTEND;TZID=America/Chicago:20260430T203000
DTSTAMP:20260424T095203
CREATED:20260424T095203-18000
SUMMARY:Wills, Trusts and Estate Planning Basics
DESCRIPTION:Learn about wills\, trusts\, powers of attorney probate and guardianship. Take the first step to create or update a plan that is appropriate for you. Attorney Jacob K. Ehrensaft will explain how to...
URL:rosellepubliclibrarysystem.digitalbranch.org/api/event_export_ics_controlle
LOCATION:Community Room A & B
UID:30479
END:VEVENT
END:VCALENDAR
