BEGIN:VCALENDAR
VERSION:2.0
PRODID:-//Roselle Public Library District//NONSGML v1.0//EN
METHOD:PUBLISH
BEGIN:VEVENT
DTSTART;TZID=America/Chicago:20260427T183000
DTEND;TZID=America/Chicago:20260427T200000
DTSTAMP:20260423T100447
CREATED:20260423T100447-18000
SUMMARY:Brunch Cuisine Ideas
DESCRIPTION:Enjoy an evening with Chef Susan Maddox by learning some great recipes as well as methods & techniques when breakfast & lunch fans come together.  These dishes will be an asset in preparing a...
URL:rosellepubliclibrarysystem.digitalbranch.org/api/event_export_ics_controlle
LOCATION:Community Room A & B
UID:30476
END:VEVENT
END:VCALENDAR
