BEGIN:VCALENDAR
VERSION:2.0
PRODID:-//Roselle Public Library District//NONSGML v1.0//EN
METHOD:PUBLISH
BEGIN:VEVENT
DTSTART;TZID=America/Chicago:20260425T110000
DTEND;TZID=America/Chicago:20260425T130000
DTSTAMP:20260422T095412
CREATED:20260422T095412-18000
SUMMARY:Book Lover's Day - Session 2
DESCRIPTION:Celebrate Book Lover's Day!  Please join us for brunch and a roundtable discussion of books you have especially enjoyed this year.  The adult services staff will also talk about an assortment of books...
URL:rosellepubliclibrarysystem.digitalbranch.org/api/event_export_ics_controlle
LOCATION:Community Room A\, Community Room B
UID:30475
END:VEVENT
END:VCALENDAR
