BEGIN:VCALENDAR
VERSION:2.0
PRODID:-//Roselle Public Library District//NONSGML v1.0//EN
METHOD:PUBLISH
BEGIN:VEVENT
DTSTART;TZID=America/Chicago:20260423T120000
DTEND;TZID=America/Chicago:20260423T140000
DTSTAMP:20260422T095833
CREATED:20260422T095833-18000
SUMMARY:Book Lover's Day - Session 1
DESCRIPTION:Roselle card holders\, come celebrate Book Lover's Day.  Please join us for lunch and a roundtable discussion of books you have especially enjoyed this year.  The adult services staff will also talk...
URL:rosellepubliclibrarysystem.digitalbranch.org/api/event_export_ics_controlle
LOCATION:Community Room A\, Community Room B
UID:30474
END:VEVENT
END:VCALENDAR
