BEGIN:VCALENDAR
VERSION:2.0
PRODID:-//Roselle Public Library District//NONSGML v1.0//EN
METHOD:PUBLISH
BEGIN:VEVENT
DTSTART;TZID=America/Chicago:20260423T163000
DTEND;TZID=America/Chicago:20260423T171500
DTSTAMP:20260422T232009
CREATED:20260422T232009-18000
SUMMARY:Pringles Taste Test (Grades 1-2)
DESCRIPTION:Sample different types of Pringles\, guess what flavor they are\, and rank them from best to worst. Foods may include common allergens.

Registration Required\, opens on March 15.

This program is...
URL:rosellepubliclibrarysystem.digitalbranch.org/api/event_export_ics_controlle
LOCATION:Community Room A & B
UID:30255
END:VEVENT
END:VCALENDAR
